BEGIN:VCALENDAR
VERSION:2.0
PRODID:-//Leichtathletik in Engelskirchen - ECPv6.6.3//NONSGML v1.0//EN
CALSCALE:GREGORIAN
METHOD:PUBLISH
X-WR-CALNAME:Leichtathletik in Engelskirchen
X-ORIGINAL-URL:https://www.leichtathletik-in-engelskirchen.de
X-WR-CALDESC:Veranstaltungen für Leichtathletik in Engelskirchen
REFRESH-INTERVAL;VALUE=DURATION:PT1H
X-Robots-Tag:noindex
X-PUBLISHED-TTL:PT1H
BEGIN:VTIMEZONE
TZID:Europe/Berlin
BEGIN:DAYLIGHT
TZOFFSETFROM:+0100
TZOFFSETTO:+0200
TZNAME:CEST
DTSTART:20210328T010000
END:DAYLIGHT
BEGIN:STANDARD
TZOFFSETFROM:+0200
TZOFFSETTO:+0100
TZNAME:CET
DTSTART:20211031T010000
END:STANDARD
END:VTIMEZONE
BEGIN:VEVENT
DTSTART;VALUE=DATE:20210704
DTEND;VALUE=DATE:20210705
DTSTAMP:20260425T134430
CREATED:20201031T184729Z
LAST-MODIFIED:20210605T103520Z
UID:4739-1625356800-1625443199@www.leichtathletik-in-engelskirchen.de
SUMMARY:ABGESAGT: 17. Schülersportfest (Terminfindung)
DESCRIPTION:
URL:https://www.leichtathletik-in-engelskirchen.de/kalender/17-schuelersportfest/
LOCATION:Sportpark Leppe\, Leppestraße 94\, Engelskirchen\, 51766
ORGANIZER;CN="VfL Engelskirchene.V. / Abteilung Leichtathletik & Triathlon":MAILTO:info@leichtathletik-in-engelskirchen.de
END:VEVENT
END:VCALENDAR