BEGIN:VCALENDAR
VERSION:2.0
PRODID:-//Leichtathletik in Engelskirchen - ECPv6.6.3//NONSGML v1.0//EN
CALSCALE:GREGORIAN
METHOD:PUBLISH
X-WR-CALNAME:Leichtathletik in Engelskirchen
X-ORIGINAL-URL:https://www.leichtathletik-in-engelskirchen.de
X-WR-CALDESC:Veranstaltungen für Leichtathletik in Engelskirchen
REFRESH-INTERVAL;VALUE=DURATION:PT1H
X-Robots-Tag:noindex
X-PUBLISHED-TTL:PT1H
BEGIN:VTIMEZONE
TZID:Europe/Berlin
BEGIN:DAYLIGHT
TZOFFSETFROM:+0100
TZOFFSETTO:+0200
TZNAME:CEST
DTSTART:20210328T010000
END:DAYLIGHT
BEGIN:STANDARD
TZOFFSETFROM:+0200
TZOFFSETTO:+0100
TZNAME:CET
DTSTART:20211031T010000
END:STANDARD
END:VTIMEZONE
BEGIN:VEVENT
DTSTART;TZID=Europe/Berlin:20210414T180000
DTEND;TZID=Europe/Berlin:20210414T180000
DTSTAMP:20260425T194116
CREATED:20210413T220000Z
LAST-MODIFIED:20210409T093807Z
UID:4735-1618423200-1618423200@www.leichtathletik-in-engelskirchen.de
SUMMARY:RunUp
DESCRIPTION:Wechsel des VfL-Lauftreffs vom Winter auf den Sommermodus \n 
URL:https://www.leichtathletik-in-engelskirchen.de/kalender/runup/
LOCATION:„digital“
ORGANIZER;CN="VfL Engelskirchene.V. / Abteilung Leichtathletik & Triathlon":MAILTO:info@leichtathletik-in-engelskirchen.de
END:VEVENT
END:VCALENDAR