BEGIN:VCALENDAR
VERSION:2.0
PRODID:-//Leichtathletik in Engelskirchen - ECPv6.6.3//NONSGML v1.0//EN
CALSCALE:GREGORIAN
METHOD:PUBLISH
X-WR-CALNAME:Leichtathletik in Engelskirchen
X-ORIGINAL-URL:https://www.leichtathletik-in-engelskirchen.de
X-WR-CALDESC:Veranstaltungen für Leichtathletik in Engelskirchen
REFRESH-INTERVAL;VALUE=DURATION:PT1H
X-Robots-Tag:noindex
X-PUBLISHED-TTL:PT1H
BEGIN:VTIMEZONE
TZID:Europe/Berlin
BEGIN:DAYLIGHT
TZOFFSETFROM:+0100
TZOFFSETTO:+0200
TZNAME:CEST
DTSTART:20230326T010000
END:DAYLIGHT
BEGIN:STANDARD
TZOFFSETFROM:+0200
TZOFFSETTO:+0100
TZNAME:CET
DTSTART:20231029T010000
END:STANDARD
END:VTIMEZONE
BEGIN:VEVENT
DTSTART;VALUE=DATE:20230618
DTEND;VALUE=DATE:20230619
DTSTAMP:20260423T211020
CREATED:20230218T161557Z
LAST-MODIFIED:20230406T073832Z
UID:5816-1687046400-1687132799@www.leichtathletik-in-engelskirchen.de
SUMMARY:Triathlon Münster Landesliga Mitte
DESCRIPTION:Saisonstart in der Landesliga Mitte beim Münster Triathlon
URL:https://www.leichtathletik-in-engelskirchen.de/kalender/triathlon-muenster-landesliga-mitte/
LOCATION:Münster
END:VEVENT
END:VCALENDAR