BEGIN:VCALENDAR
VERSION:2.0
PRODID:-//Leichtathletik in Engelskirchen - ECPv6.6.3//NONSGML v1.0//EN
CALSCALE:GREGORIAN
METHOD:PUBLISH
X-ORIGINAL-URL:https://www.leichtathletik-in-engelskirchen.de
X-WR-CALDESC:Veranstaltungen für Leichtathletik in Engelskirchen
REFRESH-INTERVAL;VALUE=DURATION:PT1H
X-Robots-Tag:noindex
X-PUBLISHED-TTL:PT1H
BEGIN:VTIMEZONE
TZID:Europe/Berlin
BEGIN:DAYLIGHT
TZOFFSETFROM:+0100
TZOFFSETTO:+0200
TZNAME:CEST
DTSTART:20220327T010000
END:DAYLIGHT
BEGIN:STANDARD
TZOFFSETFROM:+0200
TZOFFSETTO:+0100
TZNAME:CET
DTSTART:20221030T010000
END:STANDARD
END:VTIMEZONE
BEGIN:VEVENT
DTSTART;TZID=Europe/Berlin:20220427T180000
DTEND;TZID=Europe/Berlin:20220427T180000
DTSTAMP:20260424T173026
CREATED:20210422T055053Z
LAST-MODIFIED:20210423T041146Z
UID:4832-1651082400-1651082400@www.leichtathletik-in-engelskirchen.de
SUMMARY:RunUp 2022
DESCRIPTION:
URL:https://www.leichtathletik-in-engelskirchen.de/kalender/runup-2022/
ORGANIZER;CN="VfL Engelskirchene.V. / Abteilung Leichtathletik & Triathlon":MAILTO:info@leichtathletik-in-engelskirchen.de
END:VEVENT
END:VCALENDAR