BEGIN:VCALENDAR
VERSION:2.0
PRODID:-//Leichtathletik in Engelskirchen - ECPv6.6.3//NONSGML v1.0//EN
CALSCALE:GREGORIAN
METHOD:PUBLISH
X-WR-CALNAME:Leichtathletik in Engelskirchen
X-ORIGINAL-URL:https://www.leichtathletik-in-engelskirchen.de
X-WR-CALDESC:Veranstaltungen für Leichtathletik in Engelskirchen
REFRESH-INTERVAL;VALUE=DURATION:PT1H
X-Robots-Tag:noindex
X-PUBLISHED-TTL:PT1H
BEGIN:VTIMEZONE
TZID:Europe/Berlin
BEGIN:DAYLIGHT
TZOFFSETFROM:+0100
TZOFFSETTO:+0200
TZNAME:CEST
DTSTART:20200329T010000
END:DAYLIGHT
BEGIN:STANDARD
TZOFFSETFROM:+0200
TZOFFSETTO:+0100
TZNAME:CET
DTSTART:20201025T010000
END:STANDARD
END:VTIMEZONE
BEGIN:VEVENT
DTSTART;TZID=Europe/Berlin:20201026T200000
DTEND;TZID=Europe/Berlin:20201026T200000
DTSTAMP:20260426T060933
CREATED:20201031T182948Z
LAST-MODIFIED:20201031T182948Z
UID:4731-1603742400-1603742400@www.leichtathletik-in-engelskirchen.de
SUMMARY:ABGESAGT: Abteilungsversammlung
DESCRIPTION:
URL:https://www.leichtathletik-in-engelskirchen.de/kalender/abgesagt-abteilungsversammlung/
LOCATION:Sportpark Leppe\, Leppestraße 94\, Engelskirchen\, 51766
ORGANIZER;CN="VfL Engelskirchene.V. / Abteilung Leichtathletik & Triathlon":MAILTO:info@leichtathletik-in-engelskirchen.de
END:VEVENT
END:VCALENDAR